Workbook
Name add_item_bank1: '4. Order Inputs'!$B$19
Name add_item_bank2: '4. Order Inputs'!$B$21
Name add_item_bank3: '4. Order Inputs'!$B$23
Name company_name: '1. Initial Settings'!$C$10
Name costcentreordivision: '2. Subject Information'!$H$8:$H$107
Name default_language: '1. Initial Settings'!$C$6
Name eval_email_adrate_location: 'working-step2'!$L$2:$L$2001
Name eval_email_domain_only: 'working-step2'!$J$2:$J$2001
Name eval_email_dot_is_hyphen: 'working-step2'!$K$2:$K$2001
Name eval_email_no_com: 'working-step2'!$I$2:$I$2001
Name eval_email_no_domain: 'working-step2'!$M$2:$M$2001
Name evaluator_batch: '4. Order Inputs'!$B$11
Name evaluator_email: 'working-step1'!$E$2:$E$2001
Name evaluator_firstname: 'working-step1'!$C$2:$C$2001
Name evaluator_group: 'working-step1'!$F$2:$F$2001
Name evaluator_language: 'working-step1'!$G$2:$G$2001
Name evaluator_lastname: 'working-step1'!$D$2:$D$2001
Name evaluator_username: 'working-step2'!$N$2:$N$2001
Name group_name: '4. Order Inputs'!$B$5
Name group_type: '4. Order Inputs'!$B$7
Name languages_lookup: lookups!$A$1:$B$24
Name nomination_date: '4. Order Inputs'!$B$15
Name ordering_company: '4. Order Inputs'!$B$3
Name subject_batch: '4. Order Inputs'!$B$9
Name subject_email: '2. Subject Information'!$E$8:$E$107
Name subject_email_adrate_location: 'working-step2'!$E$2:$E$101
Name subject_email_domain_only: 'working-step2'!$C$2:$C$101
Name subject_email_dot_is_hypen: 'working-step2'!$D$2:$D$101
Name subject_email_no_com: 'working-step2'!$B$2:$B$101
Name subject_email_no_domain: 'working-step2'!$F$2:$F$101
Name subject_firstname: '2. Subject Information'!$C$8:$C$107
Name subject_id: 'working-step1'!$H$2:$H$2001
Name subject_language: '2. Subject Information'!$F$8:$F$107
Name subject_lastname: '2. Subject Information'!$D$8:$D$107
Name subject_no: '2. Subject Information'!$B$8:$B$107
Name subject_report_language: '2. Subject Information'!$G$8:$G$107
Name subject_username: 'working-step2'!$G$2:$G$101
Name survey_close_date: '4. Order Inputs'!$B$17
Name username_prefix: '4. Order Inputs'!$B$13

Sheet 1. Initial Settings
T1: Hogan 360 Multiple Subject Evaluator Form V11 as at 2025_10_09
B3: Initial Order Settings | I3: Evaluator Group Names
B5: The language selected will be used for the Survey and the Report. The Subjects and Evaluators you add in this template will use the below language but you can manually change if needed for certain individuals. | I5: Please review the evaluator group categories and change or add any additional categories that you may require by selecting from the dropdown list.
B6: Language | I6: Reference | J6: Evaluator Group Name
I7: Self | J7: Self
B8: Please enter the name of your client's company. This will be used in the cover page of the report verbatim.
I9: Evaluator Group 1 | J9: Manager | K9: =IF(ISBLANK(J9),"",IF(OR(J9="Manager",J9="Supervisor",J9="Director",J9="Manager 2"),'2. Subject Information'!$H$2,'2. Subject Information'!$H$1)) -> Scores for this group will be not be made anonymous.
B10: Company: | D10: * This will appear verbatim on the report | I10: Evaluator Group 2 | J10: Peer | K10: =IF(ISBLANK(J10),"",IF(OR(J10="Manager",J10="Supervisor",J10="Director",J10="Manager 2"),'2. Subject Information'!$H$2,'2. Subject Information'!$H$1)) -> If less than two (2) evaluators complete, scores for this group will be made anonymous.
I11: Evaluator Group 3 | J11: Direct Report | K11: =IF(ISBLANK(J11),"",IF(OR(J11="Manager",J11="Supervisor",J11="Director",J11="Manager 2"),'2. Subject Information'!$H$2,'2. Subject Information'!$H$1)) -> If less than two (2) evaluators complete, scores for this group will be made anonymous.
I12: Evaluator Group 4 | K12: =IF(ISBLANK(J12),"",IF(OR(J12="Manager",J12="Supervisor",J12="Director",J12="Manager 2"),'2. Subject Information'!$H$2,'2. Subject Information'!$H$1))
I13: Evaluator Group 5 | K13: =IF(ISBLANK(J13),"",IF(OR(J13="Manager",J13="Supervisor",J13="Director",J13="Manager 2"),'2. Subject Information'!$H$2,'2. Subject Information'!$H$1))
I15: Note: You may have up to five (5) Evaluator Groups globally across the entire project.
I16: The default is three (3): Manager, Peer, Direct Report.

Sheet 2. Subject Information
G1: ='1. Initial Settings'!T1 -> Hogan 360 Multiple Subject Evaluator Form V11 as at 2025_10_09 | H1: If less than two (2) evaluators complete, scores for this group will be made anonymous.
H2: Scores for this group will be not be made anonymous.
B4: Hogan 360 Subject Information Sheet
B5: Please enter first and last names for all Subjects. Up to 100 Subjects can be entered on each form.
B6: Ensure the email address field is filled out correctly with no spaces at the end.
B7: Number | C7: Subject First Name | D7: Subject Last Name | E7: Email | F7: Survey Language | G7: Report Language | H7: CostCentreOrDivision
B8: {=_xlfn.SEQUENCE(100)} -> 1 | F8: {=_xlfn.SWITCH(E8<>"",TRUE,IF(default_language=0,"",default_language),"")} | G8: {=_xlfn.SWITCH(E8<>"",TRUE,IF(default_language=0,"",default_language),"")}
B9: 2 | F9: {=_xlfn.SWITCH(E9<>"",TRUE,IF(default_language=0,"",default_language),"")} | G9: {=_xlfn.SWITCH(E9<>"",TRUE,IF(default_language=0,"",default_language),"")}
B10: 3 | F10: {=_xlfn.SWITCH(E10<>"",TRUE,IF(default_language=0,"",default_language),"")} | G10: {=_xlfn.SWITCH(E10<>"",TRUE,IF(default_language=0,"",default_language),"")}
B11: 4 | F11: {=_xlfn.SWITCH(E11<>"",TRUE,IF(default_language=0,"",default_language),"")} | G11: {=_xlfn.SWITCH(E11<>"",TRUE,IF(default_language=0,"",default_language),"")}
B12: 5 | F12: {=_xlfn.SWITCH(E12<>"",TRUE,IF(default_language=0,"",default_language),"")} | G12: {=_xlfn.SWITCH(E12<>"",TRUE,IF(default_language=0,"",default_language),"")}
B13: 6 | F13: {=_xlfn.SWITCH(E13<>"",TRUE,IF(default_language=0,"",default_language),"")} | G13: {=_xlfn.SWITCH(E13<>"",TRUE,IF(default_language=0,"",default_language),"")}
B14: 7 | F14: {=_xlfn.SWITCH(E14<>"",TRUE,IF(default_language=0,"",default_language),"")} | G14: {=_xlfn.SWITCH(E14<>"",TRUE,IF(default_language=0,"",default_language),"")}
B15: 8 | F15: {=_xlfn.SWITCH(E15<>"",TRUE,IF(default_language=0,"",default_language),"")} | G15: {=_xlfn.SWITCH(E15<>"",TRUE,IF(default_language=0,"",default_language),"")}
B16: 9 | F16: {=_xlfn.SWITCH(E16<>"",TRUE,IF(default_language=0,"",default_language),"")} | G16: {=_xlfn.SWITCH(E16<>"",TRUE,IF(default_language=0,"",default_language),"")}
B17: 10 | F17: {=_xlfn.SWITCH(E17<>"",TRUE,IF(default_language=0,"",default_language),"")} | G17: {=_xlfn.SWITCH(E17<>"",TRUE,IF(default_language=0,"",default_language),"")}
B18: 11 | F18: {=_xlfn.SWITCH(E18<>"",TRUE,IF(default_language=0,"",default_language),"")} | G18: {=_xlfn.SWITCH(E18<>"",TRUE,IF(default_language=0,"",default_language),"")}
B19: 12 | F19: {=_xlfn.SWITCH(E19<>"",TRUE,IF(default_language=0,"",default_language),"")} | G19: {=_xlfn.SWITCH(E19<>"",TRUE,IF(default_language=0,"",default_language),"")}
B20: 13 | F20: {=_xlfn.SWITCH(E20<>"",TRUE,IF(default_language=0,"",default_language),"")} | G20: {=_xlfn.SWITCH(E20<>"",TRUE,IF(default_language=0,"",default_language),"")}
... B107: 100 | F107: {=_xlfn.SWITCH(E107<>"",TRUE,IF(default_language=0,"",default_language),"")} | G107: {=_xlfn.SWITCH(E107<>"",TRUE,IF(default_language=0,"",default_language),"")}

Sheet 3. Evaluator Information
G1: ='2. Subject Information'!G1 -> Hogan 360 Multiple Subject Evaluator Form V11 as at 2025_10_09
B8: Hogan 360 Evaluator Sheet
B9: Enter up to 20 Evaluators for each Subject. Subjects from the previous tab will populate the first row of each block.
B10: Please enter first and last names for all Evaluators. Ensure the email address entered for each Evaluator is spelled correctly with no spaces at the end.
B11: Please ensure you select the relationship to the Subject from the dropdown for all evaluators.
B12: Number | C12: Evaluator First Name | D12: Evaluator Last Name | E12: Email | F12: Relationship | G12: Survey Language | H12: Report Language
B13: 1 | C13: =IF(VLOOKUP($B13,'2. Subject Information'!$B$8:$F$107,2,FALSE)=0,"",VLOOKUP($B13,'2. Subject Information'!$B$8:$F$107,2,FALSE)) | D13: =IF(VLOOKUP($B13,'2. Subject Information'!$B$8:$F$107,3,FALSE)=0,"",VLOOKUP($B13,'2. Subject Information'!$B$8:$F$107,3,FALSE)) | E13: =IF(VLOOKUP($B13,'2. Subject Information'!$B$8:$F$107,4,FALSE)=0,"",VLOOKUP($B13,'2. Subject Information'!$B$8:$F$107,4,FALSE)) | F13: Self | G13: {=VLOOKUP($B13,IF(IF('2. Subject Information'!$B$8:$F$107<>0,'2. Subject Information'!$B$8:$F$107,"")<>0,IF('2. Subject Information'!$B$8:$F$107<>0,'2. Subject Information'!$B$8:$F$107,""),""),5,FALSE)} | H13: =IF($E13="","",_xlfn.XLOOKUP(E13,subject_email,subject_report_language))
B14: 1 | G14: =IF(E14<>"",IF(default_language=0,"",default_language),"")
B15: 2 | G15: =IF(E15<>"",IF(default_language=0,"",default_language),"")
B16: 3 | G16: =IF(E16<>"",IF(default_language=0,"",default_language),"")
B17: 4 | G17: =IF(E17<>"",IF(default_language=0,"",default_language),"")
B18: 5 | G18: =IF(E18<>"",IF(default_language=0,"",default_language),"")
B19: 6 | G19: =IF(E19<>"",IF(default_language=0,"",default_language),"")
B20: 7 | G20: =IF(E20<>"",IF(default_language=0,"",default_language),"")
B21: 8 | G21: =IF(E21<>"",IF(default_language=0,"",default_language),"")
B22: 9 | G22: =IF(E22<>"",IF(default_language=0,"",default_language),"")
B23: 10 | G23: =IF(E23<>"",IF(default_language=0,"",default_language),"")
B24: 11 | G24: =IF(E24<>"",IF(default_language=0,"",default_language),"")
B25: 12 | G25: =IF(E25<>"",IF(default_language=0,"",default_language),"")
... B33: 20 | G33: =IF(E33<>"",IF(default_language=0,"",default_language),"")
B35: Number | C35: Evaluator First Name | D35: Evaluator Last Name | E35: Email | F35: Relationship | G35: Survey Language | H35: Report Language
B36: 2 | C36: =IF(VLOOKUP($B36,'2. Subject Information'!$B$8:$F$107,2,FALSE)=0,"",VLOOKUP($B36,'2. Subject Information'!$B$8:$F$107,2,FALSE)) | D36: =IF(VLOOKUP($B36,'2. Subject Information'!$B$8:$F$107,3,FALSE)=0,"",VLOOKUP($B36,'2. Subject Information'!$B$8:$F$107,3,FALSE)) | E36: =IF(VLOOKUP($B36,'2. Subject Information'!$B$8:$F$107,4,FALSE)=0,"",VLOOKUP($B36,'2. Subject Information'!$B$8:$F$107,4,FALSE)) | F36: Self | G36: {=VLOOKUP($B36,IF('2. Subject Information'!$B$8:$F$107<>0,'2. Subject Information'!$B$8:$F$107,""),5,FALSE)} | H36: =IF($E36="","",_xlfn.XLOOKUP(E36,subject_email,subject_report_language))
B37: 1 | G37: =IF(E37<>"",IF(default_language=0,"",default_language),"")
B38: 2 | G38: =IF(E38<>"",IF(default_language=0,"",default_language),"")
B39: 3 | G39: =IF(E39<>"",IF(default_language=0,"",default_language),"")
B40: 4 | G40: =IF(E40<>"",IF(default_language=0,"",default_language),"")
B41: 5 | G41: =IF(E41<>"",IF(default_language=0,"",default_language),"")
B42: 6 | G42: =IF(E42<>"",IF(default_language=0,"",default_language),"")
B43: 7 | G43: =IF(E43<>"",IF(default_language=0,"",default_language),"")
B44: 8 | G44: =IF(E44<>"",IF(default_language=0,"",default_language),"")
B45: 9 | G45: =IF(E45<>"",IF(default_language=0,"",default_language),"")
B46: 10 | G46: =IF(E46<>"",IF(default_language=0,"",default_language),"")
B47: 11 | G47: =IF(E47<>"",IF(default_language=0,"",default_language),"")
B48: 12 | G48: =IF(E48<>"",IF(default_language=0,"",default_language),"")
... B56: 20 | G56: =IF(E56<>"",IF(default_language=0,"",default_language),"")
B58: Number | C58: Evaluator First Name | D58: Evaluator Last Name | E58: Email | F58: Relationship | G58: Survey Language | H58: Report Language
B59: 3 | C59: =IF(VLOOKUP($B59,'2. Subject Information'!$B$8:$F$107,2,FALSE)=0,"",VLOOKUP($B59,'2. Subject Information'!$B$8:$F$107,2,FALSE)) | D59: =IF(VLOOKUP($B59,'2. Subject Information'!$B$8:$F$107,3,FALSE)=0,"",VLOOKUP($B59,'2. Subject Information'!$B$8:$F$107,3,FALSE)) | E59: =IF(VLOOKUP($B59,'2. Subject Information'!$B$8:$F$107,4,FALSE)=0,"",VLOOKUP($B59,'2. Subject Information'!$B$8:$F$107,4,FALSE)) | F59: Self | G59: {=VLOOKUP($B59,IF('2. Subject Information'!$B$8:$F$107<>0,'2. Subject Information'!$B$8:$F$107,""),5,FALSE)} | H59: =IF($E59="","",_xlfn.XLOOKUP(E59,subject_email,subject_report_language))
B60: 1 | G60: =IF(E60<>"",IF(default_language=0,"",default_language),"")
B61: 2 | G61: =IF(E61<>"",IF(default_language=0,"",default_language),"")
B62: 3 | G62: =IF(E62<>"",IF(default_language=0,"",default_language),"")
B63: 4 | G63: =IF(E63<>"",IF(default_language=0,"",default_language),"")
B64: 5 | G64: =IF(E64<>"",IF(default_language=0,"",default_language),"")
B65: 6 | G65: =IF(E65<>"",IF(default_language=0,"",default_language),"")
B66: 7 | G66: =IF(E66<>"",IF(default_language=0,"",default_language),"")
B67: 8 | G67: =IF(E67<>"",IF(default_language=0,"",default_language),"")
B68: 9 | G68: =IF(E68<>"",IF(default_language=0,"",default_language),"")
B69: 10 | G69: =IF(E69<>"",IF(default_language=0,"",default_language),"")
B70: 11 | G70: =IF(E70<>"",IF(default_language=0,"",default_language),"")
B71: 12 | G71: =IF(E71<>"",IF(default_language=0,"",default_language),"")
... B79: 20 | G79: =IF(E79<>"",IF(default_language=0,"",default_language),"")
B81: Number | C81: Evaluator First Name | D81: Evaluator Last Name | E81: Email | F81: Relationship | G81: Survey Language | H81: Report Language
B82: 4 | C82: =IF(VLOOKUP($B82,'2. Subject Information'!$B$8:$F$107,2,FALSE)=0,"",VLOOKUP($B82,'2. Subject Information'!$B$8:$F$107,2,FALSE)) | D82: =IF(VLOOKUP($B82,'2. Subject Information'!$B$8:$F$107,3,FALSE)=0,"",VLOOKUP($B82,'2. Subject Information'!$B$8:$F$107,3,FALSE)) | E82: =IF(VLOOKUP($B82,'2. Subject Information'!$B$8:$F$107,4,FALSE)=0,"",VLOOKUP($B82,'2. Subject Information'!$B$8:$F$107,4,FALSE)) | F82: Self | G82: {=VLOOKUP($B82,IF('2. Subject Information'!$B$8:$F$107<>0,'2. Subject Information'!$B$8:$F$107,""),5,FALSE)} | H82: =IF($E82="","",_xlfn.XLOOKUP(E82,subject_email,subject_report_language))
B83: 1 | G83: =IF(E83<>"",IF(default_language=0,"",default_language),"")
B84: 2 | G84: =IF(E84<>"",IF(default_language=0,"",default_language),"")
B85: 3 | G85: =IF(E85<>"",IF(default_language=0,"",default_language),"")
B86: 4 | G86: =IF(E86<>"",IF(default_language=0,"",default_language),"")
B87: 5 | G87: =IF(E87<>"",IF(default_language=0,"",default_language),"")
B88: 6 | G88: =IF(E88<>"",IF(default_language=0,"",default_language),"")
B89: 7 | G89: =IF(E89<>"",IF(default_language=0,"",default_language),"")
B90: 8 | G90: =IF(E90<>"",IF(default_language=0,"",default_language),"")
B91: 9 | G91: =IF(E91<>"",IF(default_language=0,"",default_language),"")
B92: 10 | G92: =IF(E92<>"",IF(default_language=0,"",default_language),"")
B93: 11 | G93: =IF(E93<>"",IF(default_language=0,"",default_language),"")
B94: 12 | G94: =IF(E94<>"",IF(default_language=0,"",default_language),"")
... B102: 20 | G102: =IF(E102<>"",IF(default_language=0,"",default_language),"")
B104: Number | C104: Evaluator First Name | D104: Evaluator Last Name | E104: Email | F104: Relationship | G104: Survey Language | H104: Report Language
B105: 5 | C105: =IF(VLOOKUP($B105,'2. Subject Information'!$B$8:$F$107,2,FALSE)=0,"",VLOOKUP($B105,'2. Subject Information'!$B$8:$F$107,2,FALSE)) | D105: =IF(VLOOKUP($B105,'2. Subject Information'!$B$8:$F$107,3,FALSE)=0,"",VLOOKUP($B105,'2. Subject Information'!$B$8:$F$107,3,FALSE)) | E105: =IF(VLOOKUP($B105,'2. Subject Information'!$B$8:$F$107,4,FALSE)=0,"",VLOOKUP($B105,'2. Subject Information'!$B$8:$F$107,4,FALSE)) | F105: Self | G105: {=VLOOKUP($B105,IF('2. Subject Information'!$B$8:$F$107<>0,'2. Subject Information'!$B$8:$F$107,""),5,FALSE)} | H105: =IF($E105="","",_xlfn.XLOOKUP(E105,subject_email,subject_report_language))
B106: 1 | G106: =IF(E106<>"",IF(default_language=0,"",default_language),"")
B107: 2 | G107: =IF(E107<>"",IF(default_language=0,"",default_language),"")
B108: 3 | G108: =IF(E108<>"",IF(default_language=0,"",default_language),"")
B109: 4 | G109: =IF(E109<>"",IF(default_language=0,"",default_language),"")
B110: 5 | G110: =IF(E110<>"",IF(default_language=0,"",default_language),"")
B111: 6 | G111: =IF(E111<>"",IF(default_language=0,"",default_language),"")
B112: 7 | G112: =IF(E112<>"",IF(default_language=0,"",default_language),"")
B113: 8 | G113: =IF(E113<>"",IF(default_language=0,"",default_language),"")
B114: 9 | G114: =IF(E114<>"",IF(default_language=0,"",default_language),"")
B115: 10 | G115: =IF(E115<>"",IF(default_language=0,"",default_language),"")
B116: 11 | G116: =IF(E116<>"",IF(default_language=0,"",default_language),"")
B117: 12 | G117: =IF(E117<>"",IF(default_language=0,"",default_language),"")
... B125: 20 | G125: =IF(E125<>"",IF(default_language=0,"",default_language),"")
B127: Number | C127: Evaluator First Name | D127: Evaluator Last Name | E127: Email | F127: Relationship | G127: Survey Language | H127: Report Language
B128: 6 | C128: =IF(VLOOKUP($B128,'2. Subject Information'!$B$8:$F$107,2,FALSE)=0,"",VLOOKUP($B128,'2. Subject Information'!$B$8:$F$107,2,FALSE)) | D128: =IF(VLOOKUP($B128,'2. Subject Information'!$B$8:$F$107,3,FALSE)=0,"",VLOOKUP($B128,'2. Subject Information'!$B$8:$F$107,3,FALSE)) | E128: =IF(VLOOKUP($B128,'2. Subject Information'!$B$8:$F$107,4,FALSE)=0,"",VLOOKUP($B128,'2. Subject Information'!$B$8:$F$107,4,FALSE)) | F128: Self | G128: {=VLOOKUP($B128,IF('2. Subject Information'!$B$8:$F$107<>0,'2. Subject Information'!$B$8:$F$107,""),5,FALSE)} | H128: =IF($E128="","",_xlfn.XLOOKUP(E128,subject_email,subject_report_language))
B129: 1 | G129: =IF(E129<>"",IF(default_language=0,"",default_language),"")
B130: 2 | G130: =IF(E130<>"",IF(default_language=0,"",default_language),"")
B131: 3 | G131: =IF(E131<>"",IF(default_language=0,"",default_language),"")
B132: 4 | G132: =IF(E132<>"",IF(default_language=0,"",default_language),"")
B133: 5 | G133: =IF(E133<>"",IF(default_language=0,"",default_language),"")
B134: 6 | G134: =IF(E134<>"",IF(default_language=0,"",default_language),"")
B135: 7 | G135: =IF(E135<>"",IF(default_language=0,"",default_language),"")
B136: 8 | G136: =IF(E136<>"",IF(default_language=0,"",default_language),"")
B137: 9 | G137: =IF(E137<>"",IF(default_language=0,"",default_language),"")
B138: 10 | G138: =IF(E138<>"",IF(default_language=0,"",default_language),"")
B139: 11 | G139: =IF(E139<>"",IF(default_language=0,"",default_language),"")
B140: 12 | G140: =IF(E140<>"",IF(default_language=0,"",default_language),"")
... B148: 20 | G148: =IF(E148<>"",IF(default_language=0,"",default_language),"")
B150: Number | C150: Evaluator First Name | D150: Evaluator Last Name | E150: Email | F150: Relationship | G150: Survey Language | H150: Report Language
B151: 7 | C151: =IF(VLOOKUP($B151,'2. Subject Information'!$B$8:$F$107,2,FALSE)=0,"",VLOOKUP($B151,'2. Subject Information'!$B$8:$F$107,2,FALSE)) | D151: =IF(VLOOKUP($B151,'2. Subject Information'!$B$8:$F$107,3,FALSE)=0,"",VLOOKUP($B151,'2. Subject Information'!$B$8:$F$107,3,FALSE)) | E151: =IF(VLOOKUP($B151,'2. Subject Information'!$B$8:$F$107,4,FALSE)=0,"",VLOOKUP($B151,'2. Subject Information'!$B$8:$F$107,4,FALSE)) | F151: Self | G151: {=VLOOKUP($B151,IF('2. Subject Information'!$B$8:$F$107<>0,'2. Subject Information'!$B$8:$F$107,""),5,FALSE)} | H151: =IF($E151="","",_xlfn.XLOOKUP(E151,subject_email,subject_report_language))
B152: 1 | G152: =IF(E152<>"",IF(default_language=0,"",default_language),"")
B153: 2 | G153: =IF(E153<>"",IF(default_language=0,"",default_language),"")
B154: 3 | G154: =IF(E154<>"",IF(default_language=0,"",default_language),"")
...

Sheet working-step1
A1: Skip Logic | B1: Row# | C1: evaluator_firstname | D1: evaluator_lastname | E1: evaluator_email | F1: relationship | G1: evaluator_language | H1: subject_id
A2: {=ROUNDDOWN((_xlfn.SEQUENCE(20*100)-1)/20,0)*3} -> 0 | B2: {=_xlfn.SEQUENCE(20*100,,14)+_xlfn.ANCHORARRAY(A2)} -> 14 | C2: {=INDIRECT(_xlfn.CONCAT("'3. Evaluator Information'!C",$B2))} -> 0 | D2: {=INDIRECT(_xlfn.CONCAT("'3. Evaluator Information'!D",$B2))} -> 0 | E2: {=INDIRECT(_xlfn.CONCAT("'3. Evaluator Information'!E",$B2))} -> 0 | F2: {=INDIRECT(_xlfn.CONCAT("'3. Evaluator Information'!F",$B2))} -> 0 | G2: {=IFERROR(VLOOKUP(INDIRECT(_xlfn.CONCAT("'3. Evaluator Information'!G",$B2)),languages_lookup,2,FALSE),INT(0))} -> 0 | H2: {=INT((_xlfn.SEQUENCE(20*100,1,0)/20)+1)} -> 1
A3: 0 | B3: 15 | C3: {=INDIRECT(_xlfn.CONCAT("'3. Evaluator Information'!C",$B3))} -> 0 | D3: {=INDIRECT(_xlfn.CONCAT("'3. Evaluator Information'!D",$B3))} -> 0 | E3: {=INDIRECT(_xlfn.CONCAT("'3. Evaluator Information'!E",$B3))} -> 0 | F3: {=INDIRECT(_xlfn.CONCAT("'3. Evaluator Information'!F",$B3))} -> 0 | G3: {=IFERROR(VLOOKUP(INDIRECT(_xlfn.CONCAT("'3. Evaluator Information'!G",$B3)),languages_lookup,2,FALSE),INT(0))} -> 0 | H3: 1
A4: 0 | B4: 16 | C4: {=INDIRECT(_xlfn.CONCAT("'3. Evaluator Information'!C",$B4))} -> 0 | D4: {=INDIRECT(_xlfn.CONCAT("'3. Evaluator Information'!D",$B4))} -> 0 | E4: {=INDIRECT(_xlfn.CONCAT("'3. Evaluator Information'!E",$B4))} -> 0 | F4: {=INDIRECT(_xlfn.CONCAT("'3. Evaluator Information'!F",$B4))} -> 0 | G4: {=IFERROR(VLOOKUP(INDIRECT(_xlfn.CONCAT("'3. Evaluator Information'!G",$B4)),languages_lookup,2,FALSE),INT(0))} -> 0 | H4: 1
A5: 0 | B5: 17 | C5: {=INDIRECT(_xlfn.CONCAT("'3. Evaluator Information'!C",$B5))} -> 0 | D5: {=INDIRECT(_xlfn.CONCAT("'3. Evaluator Information'!D",$B5))} -> 0 | E5: {=INDIRECT(_xlfn.CONCAT("'3. Evaluator Information'!E",$B5))} -> 0 | F5: {=INDIRECT(_xlfn.CONCAT("'3. Evaluator Information'!F",$B5))} -> 0 | G5: {=IFERROR(VLOOKUP(INDIRECT(_xlfn.CONCAT("'3. Evaluator Information'!G",$B5)),languages_lookup,2,FALSE),INT(0))} -> 0 | H5: 1
A6: 0 | B6: 18 | C6: {=INDIRECT(_xlfn.CONCAT("'3. Evaluator Information'!C",$B6))} -> 0 | D6: {=INDIRECT(_xlfn.CONCAT("'3. Evaluator Information'!D",$B6))} -> 0 | E6: {=INDIRECT(_xlfn.CONCAT("'3. Evaluator Information'!E",$B6))} -> 0 | F6: {=INDIRECT(_xlfn.CONCAT("'3. Evaluator Information'!F",$B6))} -> 0 | G6: {=IFERROR(VLOOKUP(INDIRECT(_xlfn.CONCAT("'3. Evaluator Information'!G",$B6)),languages_lookup,2,FALSE),INT(0))} -> 0 | H6: 1
A7: 0 | B7: 19 | C7: {=INDIRECT(_xlfn.CONCAT("'3. Evaluator Information'!C",$B7))} -> 0 | D7: {=INDIRECT(_xlfn.CONCAT("'3. Evaluator Information'!D",$B7))} -> 0 | E7: {=INDIRECT(_xlfn.CONCAT("'3. Evaluator Information'!E",$B7))} -> 0 | F7: {=INDIRECT(_xlfn.CONCAT("'3. Evaluator Information'!F",$B7))} -> 0 | G7: {=IFERROR(VLOOKUP(INDIRECT(_xlfn.CONCAT("'3. Evaluator Information'!G",$B7)),languages_lookup,2,FALSE),INT(0))} -> 0 | H7: 1
A8: 0 | B8: 20 | C8: {=INDIRECT(_xlfn.CONCAT("'3. Evaluator Information'!C",$B8))} -> 0 | D8: {=INDIRECT(_xlfn.CONCAT("'3. Evaluator Information'!D",$B8))} -> 0 | E8: {=INDIRECT(_xlfn.CONCAT("'3. Evaluator Information'!E",$B8))} -> 0 | F8: {=INDIRECT(_xlfn.CONCAT("'3. Evaluator Information'!F",$B8))} -> 0 | G8: {=IFERROR(VLOOKUP(INDIRECT(_xlfn.CONCAT("'3. Evaluator Information'!G",$B8)),languages_lookup,2,FALSE),INT(0))} -> 0 | H8: 1
A9: 0 | B9: 21 | C9: {=INDIRECT(_xlfn.CONCAT("'3. Evaluator Information'!C",$B9))} -> 0 | D9: {=INDIRECT(_xlfn.CONCAT("'3. Evaluator Information'!D",$B9))} -> 0 | E9: {=INDIRECT(_xlfn.CONCAT("'3. Evaluator Information'!E",$B9))} -> 0 | F9: {=INDIRECT(_xlfn.CONCAT("'3. Evaluator Information'!F",$B9))} -> 0 | G9: {=IFERROR(VLOOKUP(INDIRECT(_xlfn.CONCAT("'3. Evaluator Information'!G",$B9)),languages_lookup,2,FALSE),INT(0))} -> 0 | H9: 1
A10: 0 | B10: 22 | C10: {=INDIRECT(_xlfn.CONCAT("'3. Evaluator Information'!C",$B10))} -> 0 | D10: {=INDIRECT(_xlfn.CONCAT("'3. Evaluator Information'!D",$B10))} -> 0 | E10: {=INDIRECT(_xlfn.CONCAT("'3. Evaluator Information'!E",$B10))} -> 0 | F10: {=INDIRECT(_xlfn.CONCAT("'3. Evaluator Information'!F",$B10))} -> 0 | G10: {=IFERROR(VLOOKUP(INDIRECT(_xlfn.CONCAT("'3. Evaluator Information'!G",$B10)),languages_lookup,2,FALSE),INT(0))} -> 0 | H10: 1
A11: 0 | B11: 23 | C11: {=INDIRECT(_xlfn.CONCAT("'3. Evaluator Information'!C",$B11))} -> 0 | D11: {=INDIRECT(_xlfn.CONCAT("'3. Evaluator Information'!D",$B11))} -> 0 | E11: {=INDIRECT(_xlfn.CONCAT("'3. Evaluator Information'!E",$B11))} -> 0 | F11: {=INDIRECT(_xlfn.CONCAT("'3. Evaluator Information'!F",$B11))} -> 0 | G11: {=IFERROR(VLOOKUP(INDIRECT(_xlfn.CONCAT("'3. Evaluator Information'!G",$B11)),languages_lookup,2,FALSE),INT(0))} -> 0 | H11: 1
A12: 0 | B12: 24 | C12: {=INDIRECT(_xlfn.CONCAT("'3. Evaluator Information'!C",$B12))} -> 0 | D12: {=INDIRECT(_xlfn.CONCAT("'3. Evaluator Information'!D",$B12))} -> 0 | E12: {=INDIRECT(_xlfn.CONCAT("'3. Evaluator Information'!E",$B12))} -> 0 | F12: {=INDIRECT(_xlfn.CONCAT("'3. Evaluator Information'!F",$B12))} -> 0 | G12: {=IFERROR(VLOOKUP(INDIRECT(_xlfn.CONCAT("'3. Evaluator Information'!G",$B12)),languages_lookup,2,FALSE),INT(0))} -> 0 | H12: 1
A13: 0 | B13: 25 | C13: {=INDIRECT(_xlfn.CONCAT("'3. Evaluator Information'!C",$B13))} -> 0 | D13: {=INDIRECT(_xlfn.CONCAT("'3. Evaluator Information'!D",$B13))} -> 0 | E13: {=INDIRECT(_xlfn.CONCAT("'3. Evaluator Information'!E",$B13))} -> 0 | F13: {=INDIRECT(_xlfn.CONCAT("'3. Evaluator Information'!F",$B13))} -> 0 | G13: {=IFERROR(VLOOKUP(INDIRECT(_xlfn.CONCAT("'3. Evaluator Information'!G",$B13)),languages_lookup,2,FALSE),INT(0))} -> 0 | H13: 1
A14: 0 | B14: 26 | C14: {=INDIRECT(_xlfn.CONCAT("'3. Evaluator Information'!C",$B14))} -> 0 | D14: {=INDIRECT(_xlfn.CONCAT("'3. Evaluator Information'!D",$B14))} -> 0 | E14: {=INDIRECT(_xlfn.CONCAT("'3. Evaluator Information'!E",$B14))} -> 0 | F14: {=INDIRECT(_xlfn.CONCAT("'3. Evaluator Information'!F",$B14))} -> 0 | G14: {=IFERROR(VLOOKUP(INDIRECT(_xlfn.CONCAT("'3. Evaluator Information'!G",$B14)),languages_lookup,2,FALSE),INT(0))} -> 0 | H14: 1
... A2001: 297 | B2001: 2310 | C2001: {=INDIRECT(_xlfn.CONCAT("'3. Evaluator Information'!C",$B2001))} -> 0 | D2001: {=INDIRECT(_xlfn.CONCAT("'3. Evaluator Information'!D",$B2001))} -> 0 | E2001: {=INDIRECT(_xlfn.CONCAT("'3. Evaluator Information'!E",$B2001))} -> 0 | F2001: {=INDIRECT(_xlfn.CONCAT("'3. Evaluator Information'!F",$B2001))} -> 0 | G2001: {=IFERROR(VLOOKUP(INDIRECT(_xlfn.CONCAT("'3. Evaluator Information'!G",$B2001)),languages_lookup,2,FALSE),INT(0))} -> 0 | H2001: 100

Sheet working-step2
A1: subject's email | B1: find and remove .com | C1: get email domain | D1: dots to hypens | E1: find @ | F1: email with no domain | G1: subject username | H1: evaluator's email | I1: find and remove .com | J1: get email domain | K1: dots to hypens | L1: find @ | M1: email with no domain | N1: evaluator username
A2: {=LOWER(IF(subject_email<>0,subject_email,""))} | B2: {=IF(subject_email<>0,SUBSTITUTE(subject_email,".com",""),"")} | C2: {=IF(subject_email<>0,RIGHT(subject_email_no_com,LEN(subject_email_no_com)-subject_email_adrate_location),"")} | D2: {=IF(subject_email<>0,SUBSTITUTE(subject_email_domain_only,".","-"),"")} | E2: {=IF(subject_email<>0,FIND("@",subject_email),"")} | F2: {=IF(subject_email<>0,LEFT(subject_email,subject_email_adrate_location-1),"")} | G2: {=IF(subject_email<>0,username_prefix&"-"&subject_email_no_domain&"-"&subject_email_dot_is_hypen,"")} | H2: {=LOWER(IF(evaluator_email<>0,evaluator_email,""))} | I2: {=IF(evaluator_email<>0,SUBSTITUTE(evaluator_email,".com",""),"")} | J2: {=IF(evaluator_email<>0,RIGHT(eval_email_no_com,LEN(eval_email_no_com)-eval_email_adrate_location),"")} | K2: {=IF(evaluator_email<>0,SUBSTITUTE(eval_email_domain_only,".","-"),"")} | L2: {=IF(evaluator_email<>0,FIND("@",evaluator_email),"")} | M2: {=IF(evaluator_email<>0,LEFT(evaluator_email,eval_email_adrate_location-1),"")} | N2: {=IF(evaluator_email<>0,username_prefix&"-"&eval_email_no_domain&"-"&eval_email_dot_is_hyphen,"")}

Sheet lookups
A1: Language | B1: Code | D1: Group Type | F1: Item Banks | G1: Code | H1: bool
A2: English (UK) | B2: EN-GB | D2: Individual | F2: None | H2: =IF(OR(add_item_bank1=add_item_bank_table[[#This Row],[Item Banks]],add_item_bank2=add_item_bank_table[[#This Row],[Item Banks]],add_item_bank3=add_item_bank_table[[#This Row],[Item Banks]]),1,0) -> 1
A3: English (US) | B3: EN | D3: Cohort | F3: Agile Leadership | G3: agile_leadership_enabled | H3: =IF(OR(add_item_bank1=add_item_bank_table[[#This Row],[Item Banks]],add_item_bank2=add_item_bank_table[[#This Row],[Item Banks]],add_item_bank3=add_item_bank_table[[#This Row],[Item Banks]]),1,0) -> 0
A4: Arabic | B4: AR | D4: Intact Team | F4: Agility | G4: agility_enabled | H4: =IF(OR(add_item_bank1=add_item_bank_table[[#This Row],[Item Banks]],add_item_bank2=add_item_bank_table[[#This Row],[Item Banks]],add_item_bank3=add_item_bank_table[[#This Row],[Item Banks]]),1,0) -> 0
A5: Chinese (Simplified) | B5: ZH-S | F5: Change Leadership | G5: change_leadership_enabled | H5: =IF(OR(add_item_bank1=add_item_bank_table[[#This Row],[Item Banks]],add_item_bank2=add_item_bank_table[[#This Row],[Item Banks]],add_item_bank3=add_item_bank_table[[#This Row],[Item Banks]]),1,0) -> 0
A6: Chinese (Traditional) | B6: ZH-T | F6: Change Management | G6: change_management_enabled | H6: =IF(OR(add_item_bank1=add_item_bank_table[[#This Row],[Item Banks]],add_item_bank2=add_item_bank_table[[#This Row],[Item Banks]],add_item_bank3=add_item_bank_table[[#This Row],[Item Banks]]),1,0) -> 0
A7: Danish | B7: DA | F7: Commercial Acumen | G7: commercial_acumen_enabled | H7: =IF(OR(add_item_bank1=add_item_bank_table[[#This Row],[Item Banks]],add_item_bank2=add_item_bank_table[[#This Row],[Item Banks]],add_item_bank3=add_item_bank_table[[#This Row],[Item Banks]]),1,0) -> 0
A8: Dutch | B8: NL | F8: Digital Focus | G8: digital_focus_enabled | H8: =IF(OR(add_item_bank1=add_item_bank_table[[#This Row],[Item Banks]],add_item_bank2=add_item_bank_table[[#This Row],[Item Banks]],add_item_bank3=add_item_bank_table[[#This Row],[Item Banks]]),1,0) -> 0
A9: French | B9: FR | F9: Diversity and Inclusion | G9: diversity_and_inclusion_enabled | H9: =IF(OR(add_item_bank1=add_item_bank_table[[#This Row],[Item Banks]],add_item_bank2=add_item_bank_table[[#This Row],[Item Banks]],add_item_bank3=add_item_bank_table[[#This Row],[Item Banks]]),1,0) -> 0
A10: Canadian French | B10: FR-CA | F10: Environmental Social and Governance | G10: environmental_social_and_governance_enabled | H10: =IF(OR(add_item_bank1=add_item_bank_table[[#This Row],[Item Banks]],add_item_bank2=add_item_bank_table[[#This Row],[Item Banks]],add_item_bank3=add_item_bank_table[[#This Row],[Item Banks]]),1,0) -> 0
A11: German | B11: DE | F11: Humility | G11: humility_enabled | H11: =IF(OR(add_item_bank1=add_item_bank_table[[#This Row],[Item Banks]],add_item_bank2=add_item_bank_table[[#This Row],[Item Banks]],add_item_bank3=add_item_bank_table[[#This Row],[Item Banks]]),1,0) -> 0
A12: Greek | B12: EL | F12: Judgement and Decision Making | G12: judgement_and_decision_making_enabled | H12: =IF(OR(add_item_bank1=add_item_bank_table[[#This Row],[Item Banks]],add_item_bank2=add_item_bank_table[[#This Row],[Item Banks]],add_item_bank3=add_item_bank_table[[#This Row],[Item Banks]]),1,0) -> 0
A13: Indonesian | B13: ID | F13: Leadership Effectiveness | G13: leadership_effectiveness_enabled | H13: =IF(OR(add_item_bank1=add_item_bank_table[[#This Row],[Item Banks]],add_item_bank2=add_item_bank_table[[#This Row],[Item Banks]],add_item_bank3=add_item_bank_table[[#This Row],[Item Banks]]),1,0) -> 0
A14: Italian | B14: IT | F14: Learning Agility | G14: learning_agility_enabled | H14: =IF(OR(add_item_bank1=add_item_bank_table[[#This Row],[Item Banks]],add_item_bank2=add_item_bank_table[[#This Row],[Item Banks]],add_item_bank3=add_item_bank_table[[#This Row],[Item Banks]]),1,0) -> 0
A15: Japanese | B15: JA | F15: Managing Risk | G15: managing_risk_enabled | H15: =IF(OR(add_item_bank1=add_item_bank_table[[#This Row],[Item Banks]],add_item_bank2=add_item_bank_table[[#This Row],[Item Banks]],add_item_bank3=add_item_bank_table[[#This Row],[Item Banks]]),1,0) -> 0
A16: Korean | B16: KO | F16: Project Management | G16: project_management_enabled | H16: =IF(OR(add_item_bank1=add_item_bank_table[[#This Row],[Item Banks]],add_item_bank2=add_item_bank_table[[#This Row],[Item Banks]],add_item_bank3=add_item_bank_table[[#This Row],[Item Banks]]),1,0) -> 0
... A20: Portuguese (European) | B20: PT | F20: Work Life Alignment and Wellbeing | G20: work_life_alignment_and_wellbeing_enabled | H20: =IF(OR(add_item_bank1=add_item_bank_table[[#This Row],[Item Banks]],add_item_bank2=add_item_bank_table[[#This Row],[Item Banks]],add_item_bank3=add_item_bank_table[[#This Row],[Item Banks]]),1,0) -> 0
A21: Romanian | B21: RO
A22: Spanish (European) | B22: ES-ES
A23: Spanish (Latin American) | B23: ES
A24: Vietnamese | B24: VI

Sheet 4. Order Inputs
A1: Enter Order Configuration below then click Next
A3: Ordering Company | C3: Company placing the order, verbatim from order
A5: Group Name
A7: Group Type | C7: Dropdown
A9: Subject Batch
A11: Evaluator Batch
A13: Username Prefix | B13: pbc
A15: Nomination Date | C15: Type exactly as you would like it to appear on the email invitation e.g. 29th of March, 2049. Leave blank if not nominating. Ensure Excel cell format is not Date if pasting from another Excel source or the output will convert to number.
A17: Survey Close Date | C17: Type exactly as you would like it to appear on the email invitation, e.g. 29th of March, 2049. Ensure Excel cell format is not Date if pasting from another Excel source or the output will convert to number.
A19: Item Bank #1 | B19: None | C19: This field currently have no effect.
A21: Item Bank #2 | B21: None | C21: This field currently have no effect.
A23: Item Bank #3 | B23: None | C23: This field currently have no effect.

Sheet 5. Subject Output
A1: FirstName | B1: LastName | C1: UniqueIdentifier | D1: Email | E1: username | F1: Group Name | G1: Company | H1: OrderingCompany | I1: Language | J1: Batch | K1: SurveyCloseDate | L1: GroupType | M1: CostCentreOrDivision | N1: NominationDate | O1: 8BE29D2677 | P1: B4DFE418FE | Q1: 843C38CB27 | R1: E12B174DC2 | S1: 13F53D8D26 | T1: 7BB2236347 | U1: 67612F6083 | V1: BF902995AE | W1: 6C0143CF48 | X1: E2384ADC4D | Y1: 4A73C0D12E | Z1: B3D732E8F3 | AA1: 144688EF03 | AB1: C62D991E8B | AC1: FF38781E99 | AD1: 9A9F51C80F | AE1: 17697ACD60 | AF1: FF4D444F85
A2: {=IFERROR(_xlfn._xlws.FILTER(IF(subject_firstname<>0,subject_firstname,""),subject_email<>0),"")} | B2: {=IFERROR(_xlfn._xlws.FILTER(IF(subject_lastname<>0,subject_lastname,""),subject_email<>0),"")} | C2: {=IFERROR(_xlfn.ANCHORARRAY(D2),"")} | D2: {=IFERROR(LOWER(SUBSTITUTE(_xlfn._xlws.FILTER(subject_email,subject_email<>0)," ","")),"")} | E2: {=IFERROR(IF(_xlfn.ANCHORARRAY(D2)<>"",LOWER(_xlfn._xlws.FILTER(subject_username,subject_email<>0)),""),"")} | F2: {=IFERROR(IF(_xlfn.ANCHORARRAY(D2)<>"",IF(group_name=0,"",group_name),""),"")} | G2: {=IFERROR(IF(_xlfn.ANCHORARRAY(D2)="","",IF(company_name=0,"",company_name)),"")} | H2: {=IF(_xlfn.ANCHORARRAY(D2)="","",IF(ordering_company=0,"",ordering_company))} | I2: {=IFERROR(IF(_xlfn.ANCHORARRAY(D$2)<>"",VLOOKUP(_xlfn._xlws.FILTER(subject_language,(subject_email<>0)),languages_lookup,2,FALSE),""),"")} | J2: {=IFERROR(IF(_xlfn.ANCHORARRAY(D2)="","",IF(subject_batch=0,"",subject_batch)),"")} | K2: {=IFERROR(IF(_xlfn.ANCHORARRAY(D2)="","",IF(survey_close_date=0,"",TEXT(survey_close_date,"YYYY/MM/DD"))),"")} | L2: {=IFERROR(IF(_xlfn.ANCHORARRAY(D2)="","",IF(group_type=0,"",group_type)),"")} | M2: {=IFERROR(IF(_xlfn.ANCHORARRAY(D$2)<>"",IF(_xlfn._xlws.FILTER(costcentreordivision,subject_email<>0)<>0,_xlfn._xlws.FILTER(costcentreordivision,subject_email<>0),""),""),"")} | N2: {=IFERROR(IF(IF(_xlfn.ANCHORARRAY(D$2)="","",nomination_date)=0,"",IF(_xlfn.ANCHORARRAY(D$2)="","",TEXT(nomination_date,"YYYY/MM/DD"))),"")} | O2: {=IF(_xlfn.ANCHORARRAY($D$2)="","",IFERROR(LOWER(_xlfn.XLOOKUP(O$1,add_item_bank_table[Code],add_item_bank_table[bool])=1),""))} | P2: {=IF(_xlfn.ANCHORARRAY($D$2)="","",IFERROR(LOWER(_xlfn.XLOOKUP(P$1,add_item_bank_table[Code],add_item_bank_table[bool])=1),""))} | Q2: {=IF(_xlfn.ANCHORARRAY($D$2)="","",IFERROR(LOWER(_xlfn.XLOOKUP(Q$1,add_item_bank_table[Code],add_item_bank_table[bool])=1),""))} | R2: {=IF(_xlfn.ANCHORARRAY($D$2)="","",IFERROR(LOWER(_xlfn.XLOOKUP(R$1,add_item_bank_table[Code],add_item_bank_table[bool])=1),""))} | S2: {=IF(_xlfn.ANCHORARRAY($D$2)="","",IFERROR(LOWER(_xlfn.XLOOKUP(S$1,add_item_bank_table[Code],add_item_bank_table[bool])=1),""))} | T2: {=IF(_xlfn.ANCHORARRAY($D$2)="","",IFERROR(LOWER(_xlfn.XLOOKUP(T$1,add_item_bank_table[Code],add_item_bank_table[bool])=1),""))} | U2: {=IF(_xlfn.ANCHORARRAY($D$2)="","",IFERROR(LOWER(_xlfn.XLOOKUP(U$1,add_item_bank_table[Code],add_item_bank_table[bool])=1),""))} | V2: {=IF(_xlfn.ANCHORARRAY($D$2)="","",IFERROR(LOWER(_xlfn.XLOOKUP(V$1,add_item_bank_table[Code],add_item_bank_table[bool])=1),""))} | ... AF2: {=IF(_xlfn.ANCHORARRAY($D$2)="","",IFERROR(LOWER(_xlfn.XLOOKUP(AF$1,add_item_bank_table[Code],add_item_bank_table[bool])=1),""))}

Sheet 6. Evaluator Output
A1: FirstName | B1: LastName | C1: EvaluatorEmail | D1: evaluatoruniqueidentifier | E1: email | F1: username | G1: subjectuniqueidentifier | H1: Relationship | I1: Company | J1: OrderingCompany | K1: Language | L1: Evaluator Batch | M1: 8BE29D2677 | N1: B4DFE418FE | O1: 843C38CB27 | P1: E12B174DC2 | Q1: 13F53D8D26 | R1: 7BB2236347 | S1: 67612F6083 | T1: BF902995AE | U1: 6C0143CF48 | V1: E2384ADC4D | W1: 4A73C0D12E | X1: B3D732E8F3 | Y1: 144688EF03 | Z1: C62D991E8B | AA1: FF38781E99 | AB1: 9A9F51C80F | AC1: 17697ACD60 | AD1: FF4D444F85
A2: {=IFERROR(_xlfn._xlws.FILTER(IF(evaluator_firstname<>0,evaluator_firstname,""),evaluator_email<>0),"")} | B2: {=IFERROR(_xlfn._xlws.FILTER(IF(evaluator_lastname<>0,evaluator_lastname,""),evaluator_email<>0),"")} | C2: {=IFERROR(LOWER(_xlfn._xlws.FILTER(evaluator_email,evaluator_email<>0)),"")} | D2: {=IFERROR(_xlfn.ANCHORARRAY(C2),"")} | E2: {=IFERROR(_xlfn.ANCHORARRAY(C2),"")} | F2: {=IFERROR(IF(_xlfn.ANCHORARRAY(C2)<>"",LOWER(_xlfn._xlws.FILTER(evaluator_username,evaluator_email<>0)),""),"")} | G2: {=LOWER(IFERROR(IF(_xlfn.XLOOKUP(_xlfn._xlws.FILTER(subject_id,evaluator_email<>0),subject_no,subject_email)=0,"",_xlfn.XLOOKUP(_xlfn._xlws.FILTER(subject_id,evaluator_email<>0),subject_no,subject_email)),""))} | H2: {=IFERROR(_xlfn._xlws.FILTER(IF(evaluator_group<>0,evaluator_group,""),evaluator_email<>0),"")} | I2: {=IF(_xlfn.ANCHORARRAY(C2)="","",IF(company_name=0,"",company_name))} | J2: {=IF(_xlfn.ANCHORARRAY(C2)="","",IF(ordering_company=0,"",ordering_company))} | K2: {=IFERROR(_xlfn._xlws.FILTER(IF(evaluator_language<>0,evaluator_language,""),evaluator_email<>0),"")} | L2: {=IF(_xlfn.ANCHORARRAY(C2)="","",IF(evaluator_batch=0,"",evaluator_batch))} | M2: {=IF(_xlfn.ANCHORARRAY($C$2)="","",IFERROR(LOWER(_xlfn.XLOOKUP(M$1,add_item_bank_table[Code],add_item_bank_table[bool])=1),""))} | N2: {=IF(_xlfn.ANCHORARRAY($C$2)="","",IFERROR(LOWER(_xlfn.XLOOKUP(N$1,add_item_bank_table[Code],add_item_bank_table[bool])=1),""))} | O2: {=IF(_xlfn.ANCHORARRAY($C$2)="","",IFERROR(LOWER(_xlfn.XLOOKUP(O$1,add_item_bank_table[Code],add_item_bank_table[bool])=1),""))} | P2: {=IF(_xlfn.ANCHORARRAY($C$2)="","",IFERROR(LOWER(_xlfn.XLOOKUP(P$1,add_item_bank_table[Code],add_item_bank_table[bool])=1),""))} | Q2: {=IF(_xlfn.ANCHORARRAY($C$2)="","",IFERROR(LOWER(_xlfn.XLOOKUP(Q$1,add_item_bank_table[Code],add_item_bank_table[bool])=1),""))} | R2: {=IF(_xlfn.ANCHORARRAY($C$2)="","",IFERROR(LOWER(_xlfn.XLOOKUP(R$1,add_item_bank_table[Code],add_item_bank_table[bool])=1),""))} | S2: {=IF(_xlfn.ANCHORARRAY($C$2)="","",IFERROR(LOWER(_xlfn.XLOOKUP(S$1,add_item_bank_table[Code],add_item_bank_table[bool])=1),""))} | T2: {=IF(_xlfn.ANCHORARRAY($C$2)="","",IFERROR(LOWER(_xlfn.XLOOKUP(T$1,add_item_bank_table[Code],add_item_bank_table[bool])=1),""))} | ... AD2: {=IF(_xlfn.ANCHORARRAY($C$2)="","",IFERROR(LOWER(_xlfn.XLOOKUP(AD$1,add_item_bank_table[Code],add_item_bank_table[bool])=1),""))}
